<?xml version="1.0"?>
<!--<!DOCTYPE metadata SYSTEM "http://www.esri.com/metadata/esriprof80.dtd">-->
<metadata xml:lang="en">
	<Esri>
		<CreaDate>20031117</CreaDate>
		<CreaTime>12182400</CreaTime>
		<SyncOnce>FALSE</SyncOnce>
		<SyncDate>20031117</SyncDate>
		<SyncTime>12324500</SyncTime>
		<ModDate>20031117</ModDate>
		<ModTime>12324500</ModTime>
		<MetaID>{3C059B9F-15E6-4F49-BE2D-40915B8E9772}</MetaID></Esri>
	<idinfo>
		<native Sync="TRUE">Microsoft Windows 2000 Version 5.1 (Build 2600) Service Pack 1; ESRI ArcCatalog 8.3.0.800</native>
		<descript>
			<langdata Sync="TRUE">en</langdata>
			<abstract>USGS Digital Orthophoto Quads resampled to 6m resolution and mosaicked to cover the entire South Florida Water Management District.</abstract>
		</descript>
		<citation>
			<citeinfo>
				<origin>South Florida Water Management District</origin>
				<pubdate>2000</pubdate>
				<title>DOQ 2000 USGS 6m SID Format - Mosaic</title>
				<ftname Sync="TRUE">doq6m2k.sid</ftname>
				<geoform Sync="TRUE">remote-sensing image</geoform>
				<onlink>ftp://ftp.sfwmd.gov/pub/gisdata/doq6m2k.zip</onlink>
				<origin>USGS</origin></citeinfo>
		</citation>
		<timeperd>
			<current>ground condition</current>
			<timeinfo>
				<rngdates>
					<begdate>1999</begdate>
					<enddate>2000</enddate>
				</rngdates>
			</timeinfo>
		</timeperd>
		<status>
			<progress>Complete</progress>
			<update>Unknown</update>
		</status>
		<spdom>
			<bounding>
				<westbc Sync="TRUE">-82.397987</westbc>
				<eastbc Sync="TRUE">-79.979342</eastbc>
				<northbc Sync="TRUE">28.627175</northbc>
				<southbc Sync="TRUE">24.495197</southbc>
			</bounding>
			<lboundng>
				<leftbc Sync="TRUE">207634.440482</leftbc>
				<rightbc Sync="TRUE">983617.392482</rightbc>
				<bottombc Sync="TRUE">61006.885588</bottombc>
				<topbc Sync="TRUE">1560729.913588</topbc>
			</lboundng>
		</spdom>
		<keywords>
			<theme>
				<themekt>none</themekt>
				<themekey>DOQ</themekey>
				<themekey>digital orthophoto quadrangle</themekey>
				<themekey>mosaic</themekey>
				<themekey>color infrared</themekey><themekey>CIR</themekey></theme>
			<place>
				<placekey>south Florida</placekey>
			</place>
		</keywords>
		<accconst>none</accconst>
		<useconst>none</useconst>
		<natvform Sync="TRUE">Raster Dataset</natvform>
		<ptcontac>
			<cntinfo>
				<cntaddr>
					<addrtype>mailing address</addrtype>
					<city>West Palm Beach</city>
					<state>FL</state>
					<postal>33406</postal>
					<country>USA</country>
					<address>South Florida Water Management District </address><address>3301 Gun Club Road</address></cntaddr>
				<cntorgp>
					<cntorg>South Florida Water Management District</cntorg>
				</cntorgp>
				<cntpos>GIS Help Desk</cntpos><cntemail>gisdata@sfwmd.gov</cntemail></cntinfo>
		</ptcontac>
	</idinfo>
	<dataIdInfo>
		<envirDesc Sync="TRUE">Microsoft Windows 2000 Version 5.1 (Build 2600) Service Pack 1; ESRI ArcCatalog 8.3.0.800</envirDesc>
		<dataLang>
			<languageCode Sync="TRUE" value="en"></languageCode>
		</dataLang>
		<idCitation>
			<resTitle Sync="TRUE">doq6m2k.sid</resTitle>
			<presForm>
				<PresFormCd Sync="TRUE" value="005"></PresFormCd>
			</presForm>
		</idCitation>
		<spatRpType>
			<SpatRepTypCd Sync="TRUE" value="002"></SpatRepTypCd>
		</spatRpType>
		<dataExt>
			<geoEle>
				<GeoBndBox esriExtentType="native">
					<westBL Sync="TRUE">207634.440482</westBL>
					<eastBL Sync="TRUE">983617.392482</eastBL>
					<northBL Sync="TRUE">1560729.913588</northBL>
					<southBL Sync="TRUE">61006.885588</southBL>
					<exTypeCode Sync="TRUE">1</exTypeCode>
				</GeoBndBox>
			</geoEle>
		</dataExt>
		<geoBox esriExtentType="decdegrees"><westBL Sync="TRUE">-82.397987</westBL><eastBL Sync="TRUE">-79.979342</eastBL><northBL Sync="TRUE">28.627175</northBL><southBL Sync="TRUE">24.495197</southBL><exTypeCode Sync="TRUE">1</exTypeCode></geoBox></dataIdInfo>
	<metainfo>
		<langmeta Sync="TRUE">en</langmeta>
		<metstdn Sync="TRUE">FGDC Content Standards for Digital Geospatial Metadata</metstdn>
		<metstdv Sync="TRUE">FGDC-STD-001-1998</metstdv>
		<mettc Sync="TRUE">local time</mettc>
		<metc>
			<cntinfo>
				<cntaddr>
					<addrtype>mailing address</addrtype>
					<city>Miami</city>
					<state>FL</state>
					<postal>33199</postal>
					<address>Southeast Environmental Research Center</address>
					<address>Florida International University</address>
					<address>University Park, OE 148</address>
					<country>USA</country>
				</cntaddr>
				<cntvoice>(305) 348-6054</cntvoice>
				<cntperp>
					<cntper>Mike Rugge</cntper>
					<cntorg>Florida Coastal Everglades LTER</cntorg>
				</cntperp>
				<cntfax>(305) 348-4096</cntfax>
			</cntinfo>
		</metc>
		<metd Sync="TRUE">20031117</metd>
		<metextns><onlink Sync="TRUE">http://www.esri.com/metadata/esriprof80.html</onlink><metprof Sync="TRUE">ESRI Metadata Profile</metprof></metextns></metainfo>
	<mdLang>
		<languageCode Sync="TRUE" value="en"></languageCode>
	</mdLang>
	<mdStanName Sync="TRUE">ISO 19115 Geographic Information - Metadata</mdStanName>
	<mdStanVer Sync="TRUE">DIS_ESRI1.0</mdStanVer>
	<mdChar>
		<CharSetCd Sync="TRUE" value="004"></CharSetCd>
	</mdChar>
	<mdHrLv>
		<ScopeCd Sync="TRUE" value="005"></ScopeCd>
	</mdHrLv>
	<mdHrLvName Sync="TRUE">dataset</mdHrLvName>
	<distinfo>
		<resdesc Sync="TRUE">Downloadable Data</resdesc>
		<stdorder>
			<digform>
				<digtinfo>
					<transize Sync="TRUE">254.445</transize>
					<dssize Sync="TRUE">254.445</dssize>
				</digtinfo>
				<digtopt><onlinopt><computer><networka><networkr>http://spatial1.sfwmd.gov/sfwmdxwebdc/dataview.asp?query=unq_id=1126</networkr></networka></computer></onlinopt></digtopt></digform>
		</stdorder>
		<distrib><cntinfo><cntorgp><cntorg>South Florida Water Management District</cntorg></cntorgp><cntpos>GIS Help Desk</cntpos><cntaddr><addrtype>mailing and physical address</addrtype><address>3301 Gun Club Road</address><city>West Palm Beach</city><state>FL</state><postal>33406</postal><country>USA</country></cntaddr><cntemail>gisdata@sfwmd.gov</cntemail></cntinfo></distrib></distinfo>
	<distInfo>
		<distributor>
			<distorTran>
				<onLineSrc>
					<orDesc Sync="TRUE">002</orDesc>
					<linkage Sync="TRUE">file://\\MRUGGE\GIS\Image_data\DOQs\doq6m2k.sid</linkage>
					<protocol Sync="TRUE">Local Area Network</protocol>
				</onLineSrc>
				<transSize Sync="TRUE">254.445</transSize>
			</distorTran>
			<distorFormat>
				<formatName Sync="TRUE">Raster Dataset</formatName>
			</distorFormat>
		</distributor>
	</distInfo>
	<spdoinfo>
		<direct Sync="TRUE">Raster</direct>
		<rastinfo>
			<rasttype Sync="TRUE">Pixel</rasttype>
			<rowcount Sync="TRUE">76159</rowcount>
			<colcount Sync="TRUE">39406</colcount>
			<rastxsz Sync="TRUE">19.692000</rastxsz>
			<rastysz Sync="TRUE">19.692000</rastysz>
			<rastbpp Sync="TRUE">8</rastbpp>
			<vrtcount Sync="TRUE">1</vrtcount>
			<rastorig Sync="TRUE">Upper Left</rastorig>
			<rastcmap Sync="TRUE">FALSE</rastcmap>
			<rastcomp Sync="TRUE">Wavelet</rastcomp>
			<rastband Sync="TRUE">3</rastband>
			<rastdtyp Sync="TRUE">pixel codes</rastdtyp>
			<rastplyr Sync="TRUE">TRUE</rastplyr>
			<rastifor Sync="TRUE">MrSID</rastifor>
		</rastinfo>
	</spdoinfo>
	<spref>
		<horizsys>
			<cordsysn>
				<geogcsn Sync="TRUE">GCS_North_American_1983</geogcsn>
				<projcsn Sync="TRUE">NAD_1983_StatePlane_Florida_East_FIPS_0901</projcsn>
			</cordsysn>
			<planar>
				<planci>
					<plance Sync="TRUE">row and column</plance>
					<plandu Sync="TRUE">survey feet</plandu>
					<coordrep>
						<absres Sync="TRUE">19.692000</absres>
						<ordres Sync="TRUE">19.692000</ordres>
					</coordrep>
				</planci>
				<mapproj><mapprojn Sync="TRUE">Transverse Mercator</mapprojn><transmer><sfctrmer Sync="TRUE">0.999941</sfctrmer><longcm Sync="TRUE">-81.000000</longcm><latprjo Sync="TRUE">24.333333</latprjo><feast Sync="TRUE">656166.666667</feast><fnorth Sync="TRUE">0.000000</fnorth></transmer></mapproj></planar>
			<geodetic>
				<horizdn Sync="TRUE">North American Datum of 1983</horizdn>
				<ellips Sync="TRUE">Geodetic Reference System 80</ellips>
				<semiaxis Sync="TRUE">6378137.000000</semiaxis>
				<denflat Sync="TRUE">298.257222</denflat>
			</geodetic>
		</horizsys>
	</spref>
	<eainfo><detailed Name="Band_1"><enttyp><enttypl Sync="TRUE">Band_1</enttypl><enttypt Sync="TRUE">Table</enttypt><enttypc Sync="TRUE">256</enttypc></enttyp><attr><attrlabl Sync="TRUE">ObjectID</attrlabl><attalias Sync="TRUE">ObjectID</attalias><attrtype Sync="TRUE">OID</attrtype><attwidth Sync="TRUE">4</attwidth><atprecis Sync="TRUE">0</atprecis><attscale Sync="TRUE">0</attscale><attrdef Sync="TRUE">Internal feature number.</attrdef><attrdefs Sync="TRUE">ESRI</attrdefs><attrdomv><udom Sync="TRUE">Sequential unique whole numbers that are automatically generated.</udom></attrdomv></attr><attr><attrlabl Sync="TRUE">Value</attrlabl><attalias Sync="TRUE">Value</attalias><attrtype Sync="TRUE">Integer</attrtype><attwidth Sync="TRUE">0</attwidth><atprecis Sync="TRUE">0</atprecis><attscale Sync="TRUE">0</attscale></attr><attr><attrlabl Sync="TRUE">Count</attrlabl><attalias Sync="TRUE">Count</attalias><attrtype Sync="TRUE">Integer</attrtype><attwidth Sync="TRUE">0</attwidth><atprecis Sync="TRUE">0</atprecis><attscale Sync="TRUE">0</attscale></attr></detailed><detailed Name="Band_2"><enttyp><enttypl Sync="TRUE">Band_2</enttypl><enttypt Sync="TRUE">Table</enttypt><enttypc Sync="TRUE">232</enttypc></enttyp><attr><attrlabl Sync="TRUE">ObjectID</attrlabl><attalias Sync="TRUE">ObjectID</attalias><attrtype Sync="TRUE">OID</attrtype><attwidth Sync="TRUE">4</attwidth><atprecis Sync="TRUE">0</atprecis><attscale Sync="TRUE">0</attscale><attrdef Sync="TRUE">Internal feature number.</attrdef><attrdefs Sync="TRUE">ESRI</attrdefs><attrdomv><udom Sync="TRUE">Sequential unique whole numbers that are automatically generated.</udom></attrdomv></attr><attr><attrlabl Sync="TRUE">Value</attrlabl><attalias Sync="TRUE">Value</attalias><attrtype Sync="TRUE">Integer</attrtype><attwidth Sync="TRUE">0</attwidth><atprecis Sync="TRUE">0</atprecis><attscale Sync="TRUE">0</attscale></attr><attr><attrlabl Sync="TRUE">Count</attrlabl><attalias Sync="TRUE">Count</attalias><attrtype Sync="TRUE">Integer</attrtype><attwidth Sync="TRUE">0</attwidth><atprecis Sync="TRUE">0</atprecis><attscale Sync="TRUE">0</attscale></attr></detailed><detailed Name="Band_3"><enttyp><enttypl Sync="TRUE">Band_3</enttypl><enttypt Sync="TRUE">Table</enttypt><enttypc Sync="TRUE">256</enttypc></enttyp><attr><attrlabl Sync="TRUE">ObjectID</attrlabl><attalias Sync="TRUE">ObjectID</attalias><attrtype Sync="TRUE">OID</attrtype><attwidth Sync="TRUE">4</attwidth><atprecis Sync="TRUE">0</atprecis><attscale Sync="TRUE">0</attscale><attrdef Sync="TRUE">Internal feature number.</attrdef><attrdefs Sync="TRUE">ESRI</attrdefs><attrdomv><udom Sync="TRUE">Sequential unique whole numbers that are automatically generated.</udom></attrdomv></attr><attr><attrlabl Sync="TRUE">Value</attrlabl><attalias Sync="TRUE">Value</attalias><attrtype Sync="TRUE">Integer</attrtype><attwidth Sync="TRUE">0</attwidth><atprecis Sync="TRUE">0</atprecis><attscale Sync="TRUE">0</attscale></attr><attr><attrlabl Sync="TRUE">Count</attrlabl><attalias Sync="TRUE">Count</attalias><attrtype Sync="TRUE">Integer</attrtype><attwidth Sync="TRUE">0</attwidth><atprecis Sync="TRUE">0</atprecis><attscale Sync="TRUE">0</attscale></attr></detailed></eainfo>
	<mdDateSt Sync="TRUE">20031117</mdDateSt>
	<dataqual>
		<lineage>
			<srcinfo>
				<srccite>
					<citeinfo>
						<origin>USGS</origin>
						<title>USGS Color Infrared DOQs</title>
						<onlink>http://mapping.usgs.gov/www/ndop/</onlink>
					</citeinfo>
				</srccite>
				<srcscale>1:12000</srcscale>
				<srctime>
					<timeinfo>
						<rngdates>
							<begdate>1999</begdate>
							<enddate>2000</enddate>
						</rngdates>
					</timeinfo>
				</srctime>
				<srccitea>USGS Color Infrared DOQs</srccitea>
			</srcinfo>
			<procstep>
				<proccont>
					<cntinfo>
						<cntaddr>
							<addrtype>mailing and physical address</addrtype>
							<address>3301 Gun Club Road</address>
							<city>West Palm Beach</city>
							<state>FL</state>
							<postal>33406</postal>
							<country>USA</country>
						</cntaddr>
						<cntemail>gisdata@sfwmd.gov</cntemail>
						<cntorgp><cntorg>South Florida Water Management District</cntorg></cntorgp><cntpos>GIS Help Desk</cntpos></cntinfo>
				</proccont>
				<procdesc>Digital Orthophoto Quads were resampled to 6m resolution and mosaicked to include the entire South Florida Water Management District.</procdesc>
				<srcused>USGS Color Infrared DOQs</srcused>
				<srcprod>DOQ 2000 USGS 6m SID Format - Mosaic</srcprod>
			</procstep>
			<srcinfo>
				<srccite>
					<citeinfo>
						<origin>South Florida Water Management District</origin>
						<title>DOQ 2000 USGS 6m SID Format - Mosaic</title>
						<onlink>http://spatial1.sfwmd.gov/sfwmdxwebdc/dataview.asp?query=unq_id=1126</onlink>
					</citeinfo>
				</srccite>
				<srcscale>1:12000</srcscale>
				<srccitea>DOQ 2000 USGS 6m SID Format - Mosaic</srccitea>
			</srcinfo>
		</lineage>
	</dataqual>
	<refSysInfo><RefSystem><refSysID><identCode Sync="TRUE">NAD_1983_StatePlane_Florida_East_FIPS_0901</identCode></refSysID></RefSystem></refSysInfo><spatRepInfo><GridSpatRep><numDims Sync="TRUE">2</numDims><axDimProps><Dimen><dimName><DimNameTypCd Sync="TRUE" value="002"></DimNameTypCd></dimName><dimSize Sync="TRUE">39406</dimSize><dimResol Sync="TRUE">19.692</dimResol></Dimen><Dimen><dimName><DimNameTypCd Sync="TRUE" value="001"></DimNameTypCd></dimName><dimSize Sync="TRUE">76159</dimSize><dimResol Sync="TRUE">19.692</dimResol></Dimen></axDimProps><cellGeo><CellGeoCd Sync="TRUE" value="002"></CellGeoCd></cellGeo><tranParaAv Sync="TRUE">1</tranParaAv></GridSpatRep></spatRepInfo></metadata>
